BEGIN:VCALENDAR
VERSION:2.0
PRODID:-//Junge Musikakademie Hamburg - ECPv6.15.20//NONSGML v1.0//EN
CALSCALE:GREGORIAN
METHOD:PUBLISH
X-ORIGINAL-URL:https://junge-musikakademie-hamburg.de
X-WR-CALDESC:Veranstaltungen für Junge Musikakademie Hamburg
REFRESH-INTERVAL;VALUE=DURATION:PT1H
X-Robots-Tag:noindex
X-PUBLISHED-TTL:PT1H
BEGIN:VTIMEZONE
TZID:Europe/Berlin
BEGIN:DAYLIGHT
TZOFFSETFROM:+0100
TZOFFSETTO:+0200
TZNAME:CEST
DTSTART:20250330T010000
END:DAYLIGHT
BEGIN:STANDARD
TZOFFSETFROM:+0200
TZOFFSETTO:+0100
TZNAME:CET
DTSTART:20251026T010000
END:STANDARD
BEGIN:DAYLIGHT
TZOFFSETFROM:+0100
TZOFFSETTO:+0200
TZNAME:CEST
DTSTART:20260329T010000
END:DAYLIGHT
BEGIN:STANDARD
TZOFFSETFROM:+0200
TZOFFSETTO:+0100
TZNAME:CET
DTSTART:20261025T010000
END:STANDARD
BEGIN:DAYLIGHT
TZOFFSETFROM:+0100
TZOFFSETTO:+0200
TZNAME:CEST
DTSTART:20270328T010000
END:DAYLIGHT
BEGIN:STANDARD
TZOFFSETFROM:+0200
TZOFFSETTO:+0100
TZNAME:CET
DTSTART:20271031T010000
END:STANDARD
END:VTIMEZONE
BEGIN:VEVENT
DTSTART;TZID=Europe/Berlin:20260607T100000
DTEND;TZID=Europe/Berlin:20260607T170000
DTSTAMP:20260422T211324
CREATED:20260109T103513Z
LAST-MODIFIED:20260111T114338Z
UID:7313-1780826400-1780851600@junge-musikakademie-hamburg.de
SUMMARY:Musikus on Stage
DESCRIPTION:Auf dem Gelände und in den Sälen der Jungen Musikakademie Hamburg.  \n\n\n\nPräsentationen unserer Jüngsten! Abschlussaufführungen der Musikalischen Früherziehung und der Musikalischen Grundausbildung mit Rahmenprogramm.  \n\n\n\n\n\n\n\nEintritt frei
URL:https://junge-musikakademie-hamburg.de/veranstaltungen/musikus-on-stage/
ATTACH;FMTTYPE=image/jpeg:https://junge-musikakademie-hamburg.de/wp-content/uploads/2026/01/BE-2026-Musikus-on-Stage-A3_web.webp
END:VEVENT
BEGIN:VEVENT
DTSTART;TZID=Europe/Berlin:20260613T090000
DTEND;TZID=Europe/Berlin:20260614T160000
DTSTAMP:20260422T211324
CREATED:20260325T115913Z
LAST-MODIFIED:20260325T120123Z
UID:7516-1781341200-1781452800@junge-musikakademie-hamburg.de
SUMMARY:Horncamp 2026
DESCRIPTION:Auf dem Gelände und in den Sälen der Jungen Musikakademie Hamburg. \n\n\n\nEin intensives und inspirierendes Wochenende rund um das Horn!Hornisten mit unterschiedlichen Spielniveaus kommen zusammen\, um gemeinsam zu musizieren\, voneinander zu lernen und vor allem um Spaß zu haben!Die Anmeldung zum Kurs erfolgt über Extraflyer.Leitung: César Cabanero \n\n\n\n\n\n\n\nEintritt frei
URL:https://junge-musikakademie-hamburg.de/veranstaltungen/horncamp/
ATTACH;FMTTYPE=image/png:https://junge-musikakademie-hamburg.de/wp-content/uploads/2026/03/Horn-Camp.webp
END:VEVENT
BEGIN:VEVENT
DTSTART;TZID=Europe/Berlin:20260613T180000
DTEND;TZID=Europe/Berlin:20260613T203000
DTSTAMP:20260422T211324
CREATED:20260401T105604Z
LAST-MODIFIED:20260419T150352Z
UID:7546-1781373600-1781382600@junge-musikakademie-hamburg.de
SUMMARY:FOOTLOOSE
DESCRIPTION:Alfred-Rust-Saal\, Wulfsdorfer Weg 71\, Ahrensburg Die YOU!ng Musical Academy präsentiert das Kultmusical FOOTLOOSE! \n\n\n\n\n\n\n\nEintritt: 16\,- EUR / 12\,- EUR Der Vorverkauf startet am 27. April \n\n\n\n\nTICKETS\n\n\n\n\nIm Jahre 1984 tanzte Kevin Bacon als Ren McCormack im Kino gegen Spießertum und überkommene Moralvorstellungen. Aus dem vielzitierten Kultfilm wurde ein Kultmusical mit über 700 Vorstellungen am Broadway! Wir lassen die 80er wieder aufleben mit legendären Hits wie HOLDING OUT FOR A HERO\, LET’S HEAR IT FOR THE BOY und dem Titelsong FOOTLOOSE!  \n\n\n\n\nFOOTLOOSE – Das Musical\n\n\n\n\nAlle Termine\n\n\n\n\n30. Mai ’26 | 18 Uhr\n\n\n\n31. Mai ’26 | 16 UhrStadtteilschule WalddörferAhrensburger Weg 30\, Hamburg\n\n\n\n\n\n13. Juni ’26 | 18 Uhr\n\n\n\n14. Juni ’26 | 16 UhrAlfred-Rust-SaalWulfsdorfer Weg 71\, Ahrensburg
URL:https://junge-musikakademie-hamburg.de/veranstaltungen/footloose-4/
CATEGORIES:Musical
ATTACH;FMTTYPE=image/jpeg:https://junge-musikakademie-hamburg.de/wp-content/uploads/2026/04/Footloose-quadrat_web.webp
END:VEVENT
BEGIN:VEVENT
DTSTART;TZID=Europe/Berlin:20260614T160000
DTEND;TZID=Europe/Berlin:20260614T183000
DTSTAMP:20260422T211324
CREATED:20260401T105700Z
LAST-MODIFIED:20260419T150407Z
UID:7548-1781452800-1781461800@junge-musikakademie-hamburg.de
SUMMARY:FOOTLOOSE
DESCRIPTION:Alfred-Rust-Saal\, Wulfsdorfer Weg 71\, Ahrensburg Die YOU!ng Musical Academy präsentiert das Kultmusical FOOTLOOSE! \n\n\n\n\n\n\n\nEintritt: 16\,- EUR / 12\,- EUR Der Vorverkauf startet am 27. April \n\n\n\n\nTICKETS\n\n\n\n\nIm Jahre 1984 tanzte Kevin Bacon als Ren McCormack im Kino gegen Spießertum und überkommene Moralvorstellungen. Aus dem vielzitierten Kultfilm wurde ein Kultmusical mit über 700 Vorstellungen am Broadway! Wir lassen die 80er wieder aufleben mit legendären Hits wie HOLDING OUT FOR A HERO\, LET’S HEAR IT FOR THE BOY und dem Titelsong FOOTLOOSE!  \n\n\n\n\nFOOTLOOSE – Das Musical\n\n\n\n\nAlle Termine\n\n\n\n\n30. Mai ’26 | 18 Uhr\n\n\n\n31. Mai ’26 | 16 UhrStadtteilschule WalddörferAhrensburger Weg 30\, Hamburg\n\n\n\n\n\n13. Juni ’26 | 18 Uhr\n\n\n\n14. Juni ’26 | 16 UhrAlfred-Rust-SaalWulfsdorfer Weg 71\, Ahrensburg
URL:https://junge-musikakademie-hamburg.de/veranstaltungen/footloose-5/
CATEGORIES:Musical
ATTACH;FMTTYPE=image/jpeg:https://junge-musikakademie-hamburg.de/wp-content/uploads/2026/04/Footloose-quadrat_web.webp
END:VEVENT
BEGIN:VEVENT
DTSTART;TZID=Europe/Berlin:20260619T183000
DTEND;TZID=Europe/Berlin:20260619T203000
DTSTAMP:20260422T211324
CREATED:20260109T105323Z
LAST-MODIFIED:20260109T114024Z
UID:7323-1781893800-1781901000@junge-musikakademie-hamburg.de
SUMMARY:Orchesterkonzert
DESCRIPTION:Kirche am Rockenhof\, Hamburg-Volksdorf. \n\n\n\nJahreskonzert unseres Symphonierchesters in der stimmungsvollen Kirche am Rockenhof. Leitung: Dirk Martin  \n\n\n\n\n\n\n\nEintritt frei\, um eine Spende wird gebeten
URL:https://junge-musikakademie-hamburg.de/veranstaltungen/orchesterkonzert/
ATTACH;FMTTYPE=image/jpeg:https://junge-musikakademie-hamburg.de/wp-content/uploads/2026/01/BE-2026-Orchesterkonzert-A3.webp
END:VEVENT
BEGIN:VEVENT
DTSTART;TZID=Europe/Berlin:20260621T000000
DTEND;TZID=Europe/Berlin:20260621T235959
DTSTAMP:20260422T211324
CREATED:20260109T110242Z
LAST-MODIFIED:20260111T113139Z
UID:7330-1782000000-1782086399@junge-musikakademie-hamburg.de
SUMMARY:Musikfest Barsbüttel
DESCRIPTION:Kirsten Boie Schule Barsbüttel\, Soltausredder 18  \n\n\n\nStimmungsvolles Musikfest für die ganze Familie in der Mehrzweckhalle und im Außenbereichder Kirsten Boie Schule Barsbüttel  \n\n\n\n\n\n\n\nEintritt frei  \n\n\n\nDetaillierte Infos und Programm eine Woche vorher auf unserer website.
URL:https://junge-musikakademie-hamburg.de/veranstaltungen/musikfest-barsbuettel/
ATTACH;FMTTYPE=image/jpeg:https://junge-musikakademie-hamburg.de/wp-content/uploads/2026/01/BA-Musikfest_quadrat_web.webp
END:VEVENT
BEGIN:VEVENT
DTSTART;TZID=Europe/Berlin:20260628T100000
DTEND;TZID=Europe/Berlin:20260628T160000
DTSTAMP:20260422T211324
CREATED:20260109T111205Z
LAST-MODIFIED:20260109T114041Z
UID:7338-1782640800-1782662400@junge-musikakademie-hamburg.de
SUMMARY:Fest der Streicher
DESCRIPTION:Auf dem Gelände und in den Sälen der Jungen Musikakademie Hamburg. \n\n\n\nWorkshops & Präsentationen rund um die Familie der Streichinstrumente\, Instrumentenbauer zeigen ihr Handwerk\, Instrumente ausprobieren\, Kontrabass für Kinder\, Musikalienflohmarkt\, Cafeteria u.v.m.Das aktuelle Programm finden Sie eine Woche vor der Veranstaltung auf unserer Homepage.  \n\n\n\n\n\n\n\nEintritt frei
URL:https://junge-musikakademie-hamburg.de/veranstaltungen/fest-der-streicher/
ATTACH;FMTTYPE=image/jpeg:https://junge-musikakademie-hamburg.de/wp-content/uploads/2026/01/BE-2026-Fest-der-Streicher-A3_web.webp
END:VEVENT
BEGIN:VEVENT
DTSTART;TZID=Europe/Berlin:20260703T000000
DTEND;TZID=Europe/Berlin:20260705T235959
DTSTAMP:20260422T211324
CREATED:20260109T111419Z
LAST-MODIFIED:20260109T111500Z
UID:7341-1783036800-1783295999@junge-musikakademie-hamburg.de
SUMMARY:CHINA INN 2026
DESCRIPTION:Internationales Jugendmusikfestival  \n\n\n\n\n\n\n\nDetaillierte Infos folgen in Kürze.
URL:https://junge-musikakademie-hamburg.de/veranstaltungen/china-inn-2026/
ATTACH;FMTTYPE=image/webp:https://junge-musikakademie-hamburg.de/wp-content/uploads/2025/02/China-Inn-Poster-DIN-A2-04.webp
END:VEVENT
BEGIN:VEVENT
DTSTART;TZID=Europe/Berlin:20260705T100000
DTEND;TZID=Europe/Berlin:20260705T160000
DTSTAMP:20260422T211324
CREATED:20260109T111906Z
LAST-MODIFIED:20260109T114546Z
UID:7344-1783245600-1783267200@junge-musikakademie-hamburg.de
SUMMARY:Rock & Pop Festival
DESCRIPTION:Auf dem Gelände und in den Sälen der Jungen Musikakademie Hamburg. Open-Air-Bühne\, Schlagwerkensemble\, Bands\, Bigband\, Workshops\, Konzerte\, Cafeteria und vieles mehr! Das aktuelle Programm finden Sie eine Woche vor der Veranstaltung auf unserer Homepage.  \n\n\n\n\n\n\n\nEintritt frei
URL:https://junge-musikakademie-hamburg.de/veranstaltungen/rock-pop-festival/
ATTACH;FMTTYPE=image/jpeg:https://junge-musikakademie-hamburg.de/wp-content/uploads/2026/01/BE-2026-Rock-Pop-Festival-A3_web.webp
END:VEVENT
END:VCALENDAR